
BEGIN:VCALENDAR
VERSION:2.0
PRODID:-//jEvents 1.5 for Joomla//EN
CALSCALE:GREGORIAN
METHOD:PUBLISH
BEGIN:VEVENT

UID:74d2cedb529ff5199db0f64b344b03a0
CATEGORIES:Standaard
SUMMARY:competitievissen
LOCATION:
DESCRIPTION;ENCODING=QUOTED-PRINTABLE:<p style="margin-top: 0px;">Ook in 2011 organiseren wij weer competitievisw
 edstrijden waarbij u zich kunt kwalificeren voor het NK forelvissen 2011!</
 p><p style="margin-top: 0px;"> </p><p style="margin-top: 0px;">Inschrijven 
 is helaas niet meer mogelijk</p>

DTSTAMP:20260424T160929Z
DTSTART:20110918T060000Z
DTEND:20110918T110000Z
SEQUENCE:0
TRANSP:OPAQUE
END:VEVENT
END:VCALENDAR