
BEGIN:VCALENDAR
VERSION:2.0
PRODID:-//jEvents 1.5 for Joomla//EN
CALSCALE:GREGORIAN
METHOD:PUBLISH
BEGIN:VEVENT

UID:fe6b6876135f6ec4f91595b3598ab9a2
CATEGORIES:Standaard
SUMMARY:Competitie vissen
LOCATION:
DESCRIPTION;ENCODING=QUOTED-PRINTABLE:

DTSTAMP:20260419T221802Z
DTSTART:20170521
DTEND:20170521
SEQUENCE:0
TRANSP:OPAQUE
END:VEVENT
END:VCALENDAR