
BEGIN:VCALENDAR
VERSION:2.0
PRODID:-//jEvents 1.5 for Joomla//EN
CALSCALE:GREGORIAN
METHOD:PUBLISH
BEGIN:VEVENT

UID:c7d95e1fd92cdace46ee9e731df7c803
CATEGORIES:Standaard
SUMMARY:Competitie vissen
LOCATION:
DESCRIPTION;ENCODING=QUOTED-PRINTABLE:

DTSTAMP:20260419T202426Z
DTSTART:20170611
DTEND:20170611
SEQUENCE:0
TRANSP:OPAQUE
END:VEVENT
END:VCALENDAR