
BEGIN:VCALENDAR
VERSION:2.0
PRODID:-//jEvents 1.5 for Joomla//EN
CALSCALE:GREGORIAN
METHOD:PUBLISH
BEGIN:VEVENT

UID:60a6b54520fefedc77577788e33f17f8
CATEGORIES:Standaard
SUMMARY:Competitie vissen
LOCATION:
DESCRIPTION;ENCODING=QUOTED-PRINTABLE:<p>Tevens Open Zederik</p>

DTSTAMP:20260419T190506Z
DTSTART:20170715
DTEND:20170715
SEQUENCE:0
TRANSP:OPAQUE
END:VEVENT
END:VCALENDAR