
BEGIN:VCALENDAR
VERSION:2.0
PRODID:-//jEvents 1.5 for Joomla//EN
CALSCALE:GREGORIAN
METHOD:PUBLISH
BEGIN:VEVENT

UID:080d9d6bc9848b0d77d9f250701657ae
CATEGORIES:Standaard
SUMMARY:Open Zederik
LOCATION:
DESCRIPTION;ENCODING=QUOTED-PRINTABLE:\n\nTevens onderdell van competitievissen\n

DTSTAMP:20260419T190343Z
DTSTART:20170715
DTEND:20170715
SEQUENCE:0
TRANSP:OPAQUE
END:VEVENT
END:VCALENDAR