
BEGIN:VCALENDAR
VERSION:2.0
PRODID:-//jEvents 1.5 for Joomla//EN
CALSCALE:GREGORIAN
METHOD:PUBLISH
BEGIN:VEVENT

UID:22fe366003179af1a0e5dd04d0e49a0e
CATEGORIES:Standaard
SUMMARY:Badkuipvisserscup
LOCATION:
DESCRIPTION;ENCODING=QUOTED-PRINTABLE:De Badvisserscup\n\n \n\n\nLoting: 12:30\n\n\nAanvang wedstrijd: 13:00\n\n\
 n \n\n\nEr wordt gevist in 8 ronden van elk 25 minuten. Na 4 ronden is er e
 en pauze van 30 min. \n\n\nEinde wedstrijd ong 17:00\n\n\n \n\n\nKosten dee
 lname: 25 euro p.p.\n\n\n \n\n\nInschrijven kan tot 23 juni 2017 via 0183-3
 51625 of in de kantine.\n\n\n \n\n\nDe wisselbeker voor deze wedstrijd is g
 esponserd door o.a. Guido Brauckmann!\n

DTSTAMP:20260419T185322Z
DTSTART:20170625T060000Z
DTEND:20170625T150000Z
SEQUENCE:0
TRANSP:OPAQUE
END:VEVENT
END:VCALENDAR