
BEGIN:VCALENDAR
VERSION:2.0
PRODID:-//jEvents 1.5 for Joomla//EN
CALSCALE:GREGORIAN
METHOD:PUBLISH
BEGIN:VEVENT

UID:e258c49d5584323e58049c41942a3b78
CATEGORIES:Standaard
SUMMARY:Oogstmarkt
LOCATION:
DESCRIPTION;ENCODING=QUOTED-PRINTABLE:\n\nWij zijn zaterdag 30 september aanwezig op de oogstmarkt te Gouda.\n\n\
 n \n\n\nDe oogstmarkt is een ontmoetingsplaats tussen consumenten, producen
 ten en bereiders. Er kan worden geproefd, uitgeprobeerd en gekocht. Geniet 
 van de producten die op de markt gepresenteerd worden door de producenten e
 n bereiders en in het Groene Hart Marktcafé of neem deel aan de aanschuiflu
 nch, verzorgd door Groene Hart Catering.\n\n\n \n\n\n\n

DTSTAMP:20260419T142900Z
DTSTART:20170930T090000Z
DTEND:20170930T150000Z
SEQUENCE:0
TRANSP:OPAQUE
END:VEVENT
END:VCALENDAR