
BEGIN:VCALENDAR
VERSION:2.0
PRODID:-//jEvents 1.5 for Joomla//EN
CALSCALE:GREGORIAN
METHOD:PUBLISH
BEGIN:VEVENT

UID:603fd08e2e2334753065241057f7f38d
CATEGORIES:Standaard
SUMMARY:competitievissen
LOCATION:
DESCRIPTION;ENCODING=QUOTED-PRINTABLE:Ook in 2011 organiseren wij weer competitieviswedstrijden waarbij u zich ku
 nt kwalificeren voor het NK forelvissen 2011!\n \nInschrijven is helaas nie
 t meer mogelijk\n

DTSTAMP:20260424T161732Z
DTSTART:20111009
DTEND:20111009
SEQUENCE:0
TRANSP:OPAQUE
END:VEVENT
END:VCALENDAR