
BEGIN:VCALENDAR
VERSION:2.0
PRODID:-//jEvents 1.5 for Joomla//EN
CALSCALE:GREGORIAN
METHOD:PUBLISH
BEGIN:VEVENT

UID:691c5cd63e59617cb5ddbbb7e5496f28
CATEGORIES:Standaard
SUMMARY:8e wedstrijd competitievissen
LOCATION:
DESCRIPTION;ENCODING=QUOTED-PRINTABLE:

DTSTAMP:20260421T234828Z
DTSTART:20141019T060000Z
DTEND:20141019T150000Z
SEQUENCE:0
TRANSP:OPAQUE
END:VEVENT
END:VCALENDAR