
BEGIN:VCALENDAR
VERSION:2.0
PRODID:-//jEvents 1.5 for Joomla//EN
CALSCALE:GREGORIAN
METHOD:PUBLISH
BEGIN:VEVENT

UID:5564a37a706c9143ecf22a27f26b0bab
CATEGORIES:Standaard
SUMMARY:Duo vissen volwassenen - kind
LOCATION:
DESCRIPTION;ENCODING=QUOTED-PRINTABLE:

DTSTAMP:20260422T015807Z
DTSTART:20140907T060000Z
DTEND:20140907T150000Z
SEQUENCE:0
TRANSP:OPAQUE
END:VEVENT
END:VCALENDAR