
BEGIN:VCALENDAR
VERSION:2.0
PRODID:-//jEvents 1.5 for Joomla//EN
CALSCALE:GREGORIAN
METHOD:PUBLISH
BEGIN:VEVENT

UID:8b412447a62e581c7d7f8e1099edff78
CATEGORIES:Standaard
SUMMARY:nacht vissen 
LOCATION:
DESCRIPTION;ENCODING=QUOTED-PRINTABLE:nacht vissen 23 augustus\n\nHet nachtvissen is altijd weer een gezellig spe
 ktakel. Tijdens een mooie zomernacht in het schijnsel van de maan en sterre
 n vissen. De vijvers zullen sfeervol verlicht zijn. Een gezellige nacht voo
 r jong en oud!!...!\n\n\nWe starten om 21.00 uur tot 03.00 uur in de ochten
 d, de kosten hiervoor bedragen 20.00 euro per persoon.\n\n\nSurinaamseten o
 m 23.00 de kosten om hier aan deel te nemen zijn 12.euro 50 per persoon.\n\
 n\n\n Als u zich wilt aanmelden voor deze bijzondere en gezellige nacht kun
 t u dit telefonisch of in de kantine of via www.forelvisvijverszederik.nl.\
 n Aanmelden kan tot woensdag 20 augustus.\n\n\nU dient zich vooraf op te ge
 ven voor dit spektakel. Bij onvoldoende deelnemers behouden wij het recht o
 m het nachtvissen te annuleren.\n

DTSTAMP:20260422T040525Z
DTSTART:20140823T190000Z
DTEND:20140824T010000Z
SEQUENCE:0
TRANSP:OPAQUE
END:VEVENT
END:VCALENDAR