
BEGIN:VCALENDAR
VERSION:2.0
PRODID:-//jEvents 1.5 for Joomla//EN
CALSCALE:GREGORIAN
METHOD:PUBLISH
BEGIN:VEVENT

UID:87fe0c618bf4ebb6d4a54793400fd293
CATEGORIES:Standaard
SUMMARY:junioren cup kids !!!!
LOCATION:
DESCRIPTION;ENCODING=QUOTED-PRINTABLE:<p style="text-align: center;" align="center"><strong><span style="font-siz
 e: 26pt; line-height: 107%; color: #262626;">Junioren cup voor Kids!!</span
 ></strong></p><p style="text-align: center;" align="center"><strong><span s
 tyle="font-size: 26pt; line-height: 107%; color: #262626;">*16 mei 2015*</s
 pan></strong></p><p><strong><span style="font-size: 18pt; line-height: 107%
 ;">Nieuw dit jaar bij de Forellen visvijvers Zederik!!</span></strong><span
  style="font-size: 14pt; line-height: 107%;"><br /> </span><span style="fon
 t-size: 12pt; line-height: 107%;"><br /> </span><span style="font-size: 14p
 t; line-height: 107%;">Een junioren Cup voor Kids van 8 t/m 14 jaar. Vanaf 
 13 uur tot 16 uur. Iedere deelnemer krijgt een leuke aandenken aan deze dag
 ! <br /> <br /> </span><span style="font-size: 14pt; line-height: 107%;">Ko
 sten: 17,50 euro per kind (dit is inclusief 1 consumptie). </span></p><p><s
 pan style="font-size: 14pt; line-height: 107%;">Â </span></p><p><span style
 ="font-size: 14pt; line-height: 107%;">Als u zich wilt opgeven voor deze mi
 ddag, dan kunt u dit telefonisch doen of in de kantine. </span></p>

DTSTAMP:20260421T113321Z
DTSTART:20150516T110000Z
DTEND:20150516T140000Z
SEQUENCE:0
TRANSP:OPAQUE
END:VEVENT
END:VCALENDAR