
BEGIN:VCALENDAR
VERSION:2.0
PRODID:-//jEvents 1.5 for Joomla//EN
CALSCALE:GREGORIAN
METHOD:PUBLISH
BEGIN:VEVENT

UID:aa088c7503fc35aab3ba807736141fc2
CATEGORIES:Standaard
SUMMARY:Senioren cup 
LOCATION:
DESCRIPTION;ENCODING=QUOTED-PRINTABLE:\n\nNIEUW dit jaar bij de Forellen visvijvers Zederik!!\n 12 september 2015
  \n Een Senioren Cup voor iedere 50 plussers. Vanaf 12.30 uur tot 17 uur. \
 n Voor de nummers 1 t/m 3 is er een leuke aandenken aan deze dag.\n...\n\nK
 osten: 30 euro per persoon.\n\n\nAls u zich wilt opgeven voor deze middag, 
 dan kunt u dit telefonisch doen of in de kantine.\n\n\n* Meer informatie be
 l: 0183-351625 / 0651362369\n

DTSTAMP:20260421T051235Z
DTSTART:20150912T103000Z
DTEND:20150912T150000Z
SEQUENCE:0
TRANSP:OPAQUE
END:VEVENT
END:VCALENDAR