
BEGIN:VCALENDAR
VERSION:2.0
PRODID:-//jEvents 1.5 for Joomla//EN
CALSCALE:GREGORIAN
METHOD:PUBLISH
BEGIN:VEVENT

UID:89675e8bf73feedd07ef01f1dfc87e0d
CATEGORIES:Standaard
SUMMARY:Competitie vissen
LOCATION:
DESCRIPTION;ENCODING=QUOTED-PRINTABLE:

DTSTAMP:20260420T033022Z
DTSTART:20170212
DTEND:20170212
SEQUENCE:0
TRANSP:OPAQUE
END:VEVENT
END:VCALENDAR