
BEGIN:VCALENDAR
VERSION:2.0
PRODID:-//jEvents 1.5 for Joomla//EN
CALSCALE:GREGORIAN
METHOD:PUBLISH
BEGIN:VEVENT

UID:717e9cd13cda3ab18ef163697a6b0e79
CATEGORIES:Standaard
SUMMARY:Competitie vissen
LOCATION:
DESCRIPTION;ENCODING=QUOTED-PRINTABLE:

DTSTAMP:20260420T014752Z
DTSTART:20170312
DTEND:20170312
SEQUENCE:0
TRANSP:OPAQUE
END:VEVENT
END:VCALENDAR